BEGIN:VCALENDAR
VERSION:2.0
PRODID:-//hacksw/handcal//NONSGML v1.0//EN
CALSCALE:GREGORIAN
BEGIN:VTIMEZONE
TZID:America/New_York
BEGIN:DAYLIGHT
TZOFFSETFROM:-0600
TZNAME:MDT
TZOFFSETTO:-0600
END:DAYLIGHT
END:VTIMEZONE
DTSTAMP:20260424T095632Z
UID:69eb769009e4f
BEGIN:VEVENT
DESCRIPTION:<p>The library is closed all day.</p>
DTSTART;TZID=America/New_York:20260525T000000
DTEND;TZID=America/New_York:20260525T235900
SUMMARY:Memorial Day (LIBRARY CLOSED)
URL;VALUE=URI:/memorial-day-library-closed
END:VEVENT
END:VCALENDAR